BEGIN:VCALENDAR
VERSION:2.0
PRODID:-//Squarespace Inc/Squarespace 6//v6//EN
BEGIN:VEVENT
UID:54f4fe79e4b08d824e024fe5@squarespace.com
DTSTAMP:20150303T002413Z
DTSTART:20150329T010000Z
DTEND:20150329T030000Z
SUMMARY:Easter Activities - Food & Fun!
END:VEVENT
END:VCALENDAR
