BEGIN:VCALENDAR
VERSION:2.0
PRODID:-//Squarespace Inc/Squarespace 6//v6//EN
BEGIN:VEVENT
UID:561588a0e4b09b3c0d7e2081@squarespace.com
DTSTAMP:20151007T211201Z
DTSTART:20151031T050000Z
DTEND:20151031T070000Z
SUMMARY:Halloween Alternative Movie Night
END:VEVENT
END:VCALENDAR
