BEGIN:VCALENDAR
VERSION:2.0
PRODID:-//Squarespace Inc/Squarespace 6//v6//EN
BEGIN:VEVENT
UID:53acdea7e4b0f2d928bfc0ef@squarespace.com
DTSTAMP:20140730T080812Z
DTSTART:20140807T070000Z
DTEND:20140807T093000Z
SUMMARY:Investment Seminar at KBC
END:VEVENT
END:VCALENDAR
