BEGIN:VCALENDAR
VERSION:2.0
PRODID:-//Squarespace Inc/Squarespace 6//v6//EN
BEGIN:VEVENT
UID:53acdcbfe4b0d8ab685c9874@squarespace.com
DTSTAMP:20140627T031612Z
DTSTART:20140805T070000Z
DTEND:20140805T093000Z
SUMMARY:Financial Health Check Seminar at KBC
END:VEVENT
END:VCALENDAR
