BEGIN:VCALENDAR
VERSION:2.0
PRODID:-//Squarespace Inc/Squarespace 6//v6//EN
BEGIN:VEVENT
UID:5388496fe4b09549eb611806@squarespace.com
DTSTAMP:20140530T090712Z
DTSTART:20140803T023000Z
DTEND:20140803T050000Z
SUMMARY:The Parenting Course
END:VEVENT
END:VCALENDAR
