BEGIN:VCALENDAR
VERSION:2.0
PRODID:-//Squarespace Inc/Squarespace 6//v6//EN
BEGIN:VEVENT
UID:53d864cce4b08c7f2ae2fbb1@squarespace.com
DTSTAMP:20140730T032957Z
DTSTART:20140822T203000Z
DTEND:20140822T220000Z
SUMMARY:Breakfast At KBC with Hagar International
END:VEVENT
END:VCALENDAR
