BEGIN:VCALENDAR
VERSION:2.0
PRODID:-//Squarespace Inc/Squarespace 6//v6//EN
BEGIN:VEVENT
UID:53acdac3e4b003339a85c27c@squarespace.com
DTSTAMP:20140627T031833Z
DTSTART:20140726T060000Z
DTEND:20140726T080000Z
SUMMARY:Watoto Children's Choir at KBC
END:VEVENT
END:VCALENDAR
