BEGIN:VCALENDAR
VERSION:2.0
PRODID:-//Squarespace Inc/Squarespace 6//v6//EN
BEGIN:VEVENT
UID:53ace2f4e4b0d277024b219e@squarespace.com
DTSTAMP:20140627T032158Z
DTSTART:20140718T200000Z
DTEND:20140718T213000Z
SUMMARY:Men's Breakfast
END:VEVENT
END:VCALENDAR
