BEGIN:VCALENDAR
VERSION:2.0
PRODID:-//Squarespace Inc/Squarespace 6//v6//EN
BEGIN:VEVENT
UID:530ac38ee4b064ec81ad2fba@squarespace.com
DTSTAMP:20140224T040907Z
DTSTART:20140413T013000Z
DTEND:20140413T033000Z
SUMMARY:Easter Activities
GEO:53.349948;-6.247356
LOCATION:KBC Hall
END:VEVENT
END:VCALENDAR
