BEGIN:VCALENDAR
VERSION:2.0
PRODID:-//Squarespace Inc/Squarespace 6//v6//EN
BEGIN:VEVENT
UID:52e61cd5e4b0c97661e75df7@squarespace.com
DTSTAMP:20140214T023231Z
DTSTART:20140307T060000Z
DTEND:20140309T010000Z
SUMMARY:KBC Family Camp
GEO:-40.87526;175.029862
LOCATION:El Rancho\, Kauri Road\, Waikanae\, New Zealand
END:VEVENT
END:VCALENDAR
