BEGIN:VCALENDAR
VERSION:2.0
PRODID:-//Squarespace Inc/Squarespace 6//v6//EN
BEGIN:VEVENT
UID:52fd7eece4b05f81d6bcb281@squarespace.com
DTSTAMP:20140218T081858Z
DTSTART:20140223T030000Z
DTEND:20140223T053000Z
SUMMARY:The Great KBC Photo Hunt
END:VEVENT
END:VCALENDAR
