BEGIN:VCALENDAR
VERSION:2.0
PRODID:-//Squarespace Inc/Squarespace 6//v6//EN
BEGIN:VEVENT
UID:5458329ae4b02707d250fbdc@squarespace.com
DTSTAMP:20141104T022102Z
DTSTART:20141116T010000Z
DTEND:20141116T030000Z
SUMMARY:Advent Craft Activities Afternoon At KBC
END:VEVENT
END:VCALENDAR
