BEGIN:VCALENDAR
VERSION:2.0
PRODID:-//Squarespace Inc/Squarespace 6//v6//EN
BEGIN:VEVENT
UID:5446db93e4b0e5655ee5f01e@squarespace.com
DTSTAMP:20141021T222631Z
DTSTART:20141031T053000Z
DTEND:20141031T073000Z
SUMMARY:Catch of the Day: Halloween Alternative 
END:VEVENT
END:VCALENDAR
