BEGIN:VCALENDAR
VERSION:2.0
PRODID:-//Squarespace Inc/Squarespace 6//v6//EN
BEGIN:VEVENT
UID:51ef928ae4b0c336ac37844c@squarespace.com
DTSTAMP:20130724T083944Z
DTSTART:20130727T090000Z
DTEND:20130727T100000Z
SUMMARY:My Serve: Weed Picking
GEO:-41.288976;174.723289
LOCATION:Karori Park
END:VEVENT
END:VCALENDAR
