BEGIN:VCALENDAR
VERSION:2.0
PRODID:-//Squarespace Inc/Squarespace 6//v6//EN
BEGIN:VEVENT
UID:51da3d88e4b084dcc6288ba7@squarespace.com
DTSTAMP:20130724T083736Z
DTSTART:20130802T210000Z
DTEND:20130802T230000Z
SUMMARY:Men's Breakfast
GEO:-41.282812;174.745273
LOCATION:Church Hall\, 161 Karori Road\, Wellington\, New Zealand
END:VEVENT
END:VCALENDAR
