BEGIN:VCALENDAR
VERSION:2.0
PRODID:-//Squarespace Inc/Squarespace 6//v6//EN
BEGIN:VEVENT
UID:527ca7eee4b0f5ebedd78a5c@squarespace.com
DTSTAMP:20131108T090009Z
DTSTART:20131130T213000Z
DTEND:20131130T233000Z
SUMMARY:Take It Home Event
END:VEVENT
END:VCALENDAR
