BEGIN:VCALENDAR
VERSION:2.0
PRODID:-//Squarespace Inc/Squarespace 6//v6//EN
BEGIN:VEVENT
UID:52761778e4b0a89c83bb883c@squarespace.com
DTSTAMP:20131108T085328Z
DTSTART:20131128T060000Z
DTEND:20131128T063000Z
SUMMARY:Annual Budget and Planning Meeting
END:VEVENT
END:VCALENDAR
