BEGIN:VCALENDAR
VERSION:2.0
PRODID:-//Squarespace Inc/Squarespace 6//v6//EN
BEGIN:VEVENT
UID:527ca7a9e4b029945664c264@squarespace.com
DTSTAMP:20131108T085904Z
DTSTART:20131123T213000Z
DTEND:20131124T003000Z
SUMMARY:Prayer For Families
END:VEVENT
END:VCALENDAR
