BEGIN:VCALENDAR
VERSION:2.0
PRODID:-//Squarespace Inc/Squarespace 6//v6//EN
BEGIN:VEVENT
UID:527ca6e3e4b0dc36171a476e@squarespace.com
DTSTAMP:20140627T031922Z
DTSTART:20131123T230000Z
DTEND:20131124T020000Z
SUMMARY:Advent Craft Event
END:VEVENT
END:VCALENDAR
