BEGIN:VCALENDAR
VERSION:2.0
PRODID:-//Squarespace Inc/Squarespace 6//v6//EN
BEGIN:VEVENT
UID:527616f5e4b0c0a3947fe0c3@squarespace.com
DTSTAMP:20131103T093223Z
DTSTART:20131122T193000Z
DTEND:20131123T080000Z
SUMMARY:Men’s Day Trip to Eringa Farm
GEO:-41.283192;174.745297
LOCATION:Karori Baptist Church
END:VEVENT
END:VCALENDAR
