BEGIN:VCALENDAR
VERSION:2.0
PRODID:-//Squarespace Inc/Squarespace 6//v6//EN
BEGIN:VEVENT
UID:527ca727e4b0b84115e68edf@squarespace.com
DTSTAMP:20131108T085746Z
DTSTART:20131122T063000Z
DTEND:20131122T083000Z
SUMMARY:Women's Coffee and Chat @ 162
GEO:-41.282488;174.744914
LOCATION:Cafe 162\, 156-162 Karori Rd\, Karori\, New Zealand
END:VEVENT
END:VCALENDAR
