BEGIN:VCALENDAR
VERSION:2.0
PRODID:-//Squarespace Inc/Squarespace 6//v6//EN
BEGIN:VEVENT
UID:5276165ae4b07e9ecdb206e8@squarespace.com
DTSTAMP:20131103T093216Z
DTSTART:20131115T220000Z
DTEND:20131116T000000Z
SUMMARY:Music Development Day
GEO:-41.283192;174.745297
LOCATION:Main Auditorium\, Karori Baptist Church\, Wellington\, New Zealand
END:VEVENT
END:VCALENDAR
