BEGIN:VCALENDAR
VERSION:2.0
PRODID:-//Squarespace Inc/Squarespace 6//v6//EN
BEGIN:VEVENT
UID:527615fce4b0ad8b178c97e9@squarespace.com
DTSTAMP:20140627T032008Z
DTSTART:20131115T190000Z
DTEND:20131115T203000Z
SUMMARY:KBC Men's Breakfast
GEO:-41.283192;174.745297
LOCATION:Back Hall\, Karori Baptist Church\, Wellington\, New Zealand
END:VEVENT
END:VCALENDAR
